BEGIN:VCALENDAR
VERSION:2.0
PRODID:spatie/icalendar-generator
NAME:Tournoi développement - Coupe Louis Page 2025
X-WR-CALNAME:Tournoi développement - Coupe Louis Page 2025
BEGIN:VTIMEZONE
TZID:America/Montreal
BEGIN:DAYLIGHT
DTSTART:20250309T010000
TZOFFSETFROM:-0500
TZOFFSETTO:-0400
END:DAYLIGHT
BEGIN:STANDARD
DTSTART:20251102T010000
TZOFFSETFROM:-0400
TZOFFSETTO:-0500
END:STANDARD
BEGIN:DAYLIGHT
DTSTART:20260308T010000
TZOFFSETFROM:-0500
TZOFFSETTO:-0400
END:DAYLIGHT
END:VTIMEZONE
BEGIN:VTIMEZONE
TZID:UTC
BEGIN:STANDARD
DTSTART:20250726T085059
TZOFFSETFROM:+0000
TZOFFSETTO:+0000
END:STANDARD
END:VTIMEZONE
BEGIN:VEVENT
UID:69e88bf3a66be
DTSTAMP:20260422T085059Z
SUMMARY:Tournoi développement - Coupe Louis Page 2025
DESCRIPTION:<p>Tournoi développement du circuit Matsuru.</p>
LOCATION:3450 Boul. du Royaume\, Jonquière\, Québec\, Canada\, G7S 5T2
DTSTART;TZID=America/Montreal:20251025T080000
DTEND;TZID=America/Montreal:20251026T170000
END:VEVENT
END:VCALENDAR