BEGIN:VCALENDAR
VERSION:2.0
PRODID:spatie/icalendar-generator
NAME:Tournoi développement - Coupe Gadbois 2026\, 33e édition
X-WR-CALNAME:Tournoi développement - Coupe Gadbois 2026\, 33e édition
BEGIN:VTIMEZONE
TZID:America/Montreal
BEGIN:STANDARD
DTSTART:20251102T010000
TZOFFSETFROM:-0400
TZOFFSETTO:-0500
END:STANDARD
BEGIN:DAYLIGHT
DTSTART:20260308T010000
TZOFFSETFROM:-0500
TZOFFSETTO:-0400
END:DAYLIGHT
END:VTIMEZONE
BEGIN:VTIMEZONE
TZID:UTC
BEGIN:STANDARD
DTSTART:20250726T084802
TZOFFSETFROM:+0000
TZOFFSETTO:+0000
END:STANDARD
END:VTIMEZONE
BEGIN:VEVENT
UID:69e88b423e417
DTSTAMP:20260422T084802Z
SUMMARY:Tournoi développement - Coupe Gadbois 2026\, 33e édition
DESCRIPTION:<p>Tournoi développement du circuit Matsuru.</p>
LOCATION:Complexe sportif Gilles-Tremblay\, 223 rue Jacques-Plante\, Repent
 igny\, Québec\, Canada\, J5Y 0B4
DTSTART;TZID=America/Montreal:20260110T080000
DTEND;TZID=America/Montreal:20260111T170000
END:VEVENT
END:VCALENDAR