BEGIN:VCALENDAR
VERSION:2.0
PRODID:spatie/icalendar-generator
NAME:Tournoi développement - Coupe Daniel Hardy 2026
X-WR-CALNAME:Tournoi développement - Coupe Daniel Hardy 2026
BEGIN:VTIMEZONE
TZID:America/Montreal
BEGIN:STANDARD
DTSTART:20251102T010000
TZOFFSETFROM:-0400
TZOFFSETTO:-0500
END:STANDARD
BEGIN:DAYLIGHT
DTSTART:20260308T010000
TZOFFSETFROM:-0500
TZOFFSETTO:-0400
END:DAYLIGHT
END:VTIMEZONE
BEGIN:VTIMEZONE
TZID:UTC
BEGIN:STANDARD
DTSTART:20250729T170713
TZOFFSETFROM:+0000
TZOFFSETTO:+0000
END:STANDARD
END:VTIMEZONE
BEGIN:VEVENT
UID:69ecf4c10dc07
DTSTAMP:20260425T170713Z
SUMMARY:Tournoi développement - Coupe Daniel Hardy 2026
DESCRIPTION:<p>Tournoi développement du circuit Matsuru.</p>
LOCATION:Académie Saint-Louis\, 1500 rue de la Rive-Boisée Sud\, Québec\
 , Québec\, Canada\, G2C 2B3
DTSTART;TZID=America/Montreal:20260207T080000
DTEND;TZID=America/Montreal:20260208T170000
END:VEVENT
END:VCALENDAR