BEGIN:VCALENDAR
VERSION:2.0
PRODID:spatie/icalendar-generator
NAME:Coupe Matsuru 2026
X-WR-CALNAME:Coupe Matsuru 2026
BEGIN:VTIMEZONE
TZID:America/Montreal
BEGIN:STANDARD
DTSTART:20251102T010000
TZOFFSETFROM:-0400
TZOFFSETTO:-0500
END:STANDARD
BEGIN:DAYLIGHT
DTSTART:20260308T010000
TZOFFSETFROM:-0500
TZOFFSETTO:-0400
END:DAYLIGHT
BEGIN:STANDARD
DTSTART:20261101T010000
TZOFFSETFROM:-0400
TZOFFSETTO:-0500
END:STANDARD
END:VTIMEZONE
BEGIN:VTIMEZONE
TZID:UTC
BEGIN:STANDARD
DTSTART:20250727T104347
TZOFFSETFROM:+0000
TZOFFSETTO:+0000
END:STANDARD
END:VTIMEZONE
BEGIN:VEVENT
UID:69e9f7e384f65
DTSTAMP:20260423T104347Z
SUMMARY:Coupe Matsuru 2026
DESCRIPTION:<p>Coupe Matsuru 2026</p>
LOCATION:CENTRE MULTISPORTS RÉGIONAL\, 200 Rue Jean Coutu\, Varennes\, Qu
 ébec\, Canada\, J3X 0E1
DTSTART;TZID=America/Montreal:20260502T080000
DTEND;TZID=America/Montreal:20260503T180500
END:VEVENT
END:VCALENDAR