BEGIN:VCALENDAR
VERSION:2.0
PRODID:spatie/icalendar-generator
NAME:Formation pour entraineurs avec Larbi Benboudaoud
X-WR-CALNAME:Formation pour entraineurs avec Larbi Benboudaoud
BEGIN:VTIMEZONE
TZID:America/Montreal
BEGIN:STANDARD
DTSTART:20251102T010000
TZOFFSETFROM:-0400
TZOFFSETTO:-0500
END:STANDARD
BEGIN:DAYLIGHT
DTSTART:20260308T010000
TZOFFSETFROM:-0500
TZOFFSETTO:-0400
END:DAYLIGHT
END:VTIMEZONE
BEGIN:VTIMEZONE
TZID:UTC
BEGIN:STANDARD
DTSTART:20250723T124754
TZOFFSETFROM:+0000
TZOFFSETTO:+0000
END:STANDARD
END:VTIMEZONE
BEGIN:VEVENT
UID:69e4cefa79f8d
DTSTAMP:20260419T124754Z
SUMMARY:Formation pour entraineurs avec Larbi Benboudaoud
DESCRIPTION:
LOCATION:4141 Pierre de Coubertin\, Montréal\, Québec\, Canada\, H1V0B2
DTSTART;TZID=America/Montreal:20251219T133000
DTEND;TZID=America/Montreal:20251219T160000
END:VEVENT
END:VCALENDAR