BEGIN:VCALENDAR
VERSION:2.0
PRODID:spatie/icalendar-generator
NAME:Entraînements vétérans et seniors #4
X-WR-CALNAME:Entraînements vétérans et seniors #4
BEGIN:VTIMEZONE
TZID:America/Montreal
BEGIN:STANDARD
DTSTART:20251102T010000
TZOFFSETFROM:-0400
TZOFFSETTO:-0500
END:STANDARD
BEGIN:DAYLIGHT
DTSTART:20260308T010000
TZOFFSETFROM:-0500
TZOFFSETTO:-0400
END:DAYLIGHT
END:VTIMEZONE
BEGIN:VTIMEZONE
TZID:UTC
BEGIN:STANDARD
DTSTART:20250725T111449
TZOFFSETFROM:+0000
TZOFFSETTO:+0000
END:STANDARD
END:VTIMEZONE
BEGIN:VEVENT
UID:69e75c296af4c
DTSTAMP:20260421T111449Z
SUMMARY:Entraînements vétérans et seniors #4
DESCRIPTION:<p>Judo Québec vous invite à une série de 4 entraînements v
 étérans et seniors qui se dérouleront tout au long de la saison.</p>
LOCATION:1445 Boulevard Provencher\, Brossard\, Québec\, \, J4W 1Z3
DTSTART;TZID=America/Montreal:20260425T140000
DTEND;TZID=America/Montreal:20260425T160000
END:VEVENT
END:VCALENDAR