BEGIN:VCALENDAR
VERSION:2.0
PRODID:spatie/icalendar-generator
NAME:Achats déjeuners et/ou soupers canadiens 2026
X-WR-CALNAME:Achats déjeuners et/ou soupers canadiens 2026
BEGIN:VTIMEZONE
TZID:America/Montreal
BEGIN:STANDARD
DTSTART:20251102T010000
TZOFFSETFROM:-0400
TZOFFSETTO:-0500
END:STANDARD
BEGIN:DAYLIGHT
DTSTART:20260308T010000
TZOFFSETFROM:-0500
TZOFFSETTO:-0400
END:DAYLIGHT
BEGIN:STANDARD
DTSTART:20261101T010000
TZOFFSETFROM:-0400
TZOFFSETTO:-0500
END:STANDARD
END:VTIMEZONE
BEGIN:VTIMEZONE
TZID:UTC
BEGIN:STANDARD
DTSTART:20250727T125051
TZOFFSETFROM:+0000
TZOFFSETTO:+0000
END:STANDARD
END:VTIMEZONE
BEGIN:VEVENT
UID:69ea15abaaa1a
DTSTAMP:20260423T125051Z
SUMMARY:Achats déjeuners et/ou soupers canadiens 2026
DESCRIPTION:<p>Achats des déjeuners et/ou des souper canadiens 2026</p>
LOCATION: \, Calgary\, Alberta\, Canada\, 
DTSTART;TZID=America/Montreal:20260514T070000
DTEND;TZID=America/Montreal:20260520T200000
END:VEVENT
END:VCALENDAR