BEGIN:VCALENDAR
VERSION:2.0
PRODID:spatie/icalendar-generator
NAME:Tournoi développement - Coupe Gadbois 2027\, 34e édition
X-WR-CALNAME:Tournoi développement - Coupe Gadbois 2027\, 34e édition
BEGIN:VTIMEZONE
TZID:America/Montreal
BEGIN:STANDARD
DTSTART:20261101T010000
TZOFFSETFROM:-0400
TZOFFSETTO:-0500
END:STANDARD
BEGIN:DAYLIGHT
DTSTART:20270314T010000
TZOFFSETFROM:-0500
TZOFFSETTO:-0400
END:DAYLIGHT
END:VTIMEZONE
BEGIN:VTIMEZONE
TZID:UTC
BEGIN:STANDARD
DTSTART:20250727T110851
TZOFFSETFROM:+0000
TZOFFSETTO:+0000
END:STANDARD
END:VTIMEZONE
BEGIN:VEVENT
UID:69e9fdc3d6936
DTSTAMP:20260423T110851Z
SUMMARY:Tournoi développement - Coupe Gadbois 2027\, 34e édition
DESCRIPTION:<p>Tournoi développement du circuit Matsuru.</p>
LOCATION:Centre Pierre-Charbonneau 3000 Rue Viau\, Montréal\, Québec\, Ca
 nada\, 
DTSTART;TZID=America/Montreal:20270116T080000
DTEND;TZID=America/Montreal:20270117T170000
END:VEVENT
END:VCALENDAR