BEGIN:VCALENDAR
VERSION:2.0
PRODID:spatie/icalendar-generator
NAME:Caranave Outaouais- Nage No Kata
X-WR-CALNAME:Caranave Outaouais- Nage No Kata
BEGIN:VTIMEZONE
TZID:America/Montreal
BEGIN:STANDARD
DTSTART:20251102T010000
TZOFFSETFROM:-0400
TZOFFSETTO:-0500
END:STANDARD
BEGIN:DAYLIGHT
DTSTART:20260308T010000
TZOFFSETFROM:-0500
TZOFFSETTO:-0400
END:DAYLIGHT
BEGIN:STANDARD
DTSTART:20261101T010000
TZOFFSETFROM:-0400
TZOFFSETTO:-0500
END:STANDARD
END:VTIMEZONE
BEGIN:VTIMEZONE
TZID:UTC
BEGIN:STANDARD
DTSTART:20250728T145829
TZOFFSETFROM:+0000
TZOFFSETTO:+0000
END:STANDARD
END:VTIMEZONE
BEGIN:VEVENT
UID:69eb8515104ba
DTSTAMP:20260424T145829Z
SUMMARY:Caranave Outaouais- Nage No Kata
DESCRIPTION:
LOCATION: \, \, \, \, 
DTSTART;TZID=America/Montreal:20260503T090000
DTEND;TZID=America/Montreal:20260503T160000
END:VEVENT
END:VCALENDAR