BEGIN:VCALENDAR
VERSION:2.0
PRODID:spatie/icalendar-generator
NAME:Interzone Laval 2025
X-WR-CALNAME:Interzone Laval 2025
BEGIN:VTIMEZONE
TZID:America/Montreal
BEGIN:STANDARD
DTSTART:20241103T010000
TZOFFSETFROM:-0400
TZOFFSETTO:-0500
END:STANDARD
BEGIN:DAYLIGHT
DTSTART:20250309T010000
TZOFFSETFROM:-0500
TZOFFSETTO:-0400
END:DAYLIGHT
END:VTIMEZONE
BEGIN:VTIMEZONE
TZID:UTC
BEGIN:STANDARD
DTSTART:20250727T085001
TZOFFSETFROM:+0000
TZOFFSETTO:+0000
END:STANDARD
END:VTIMEZONE
BEGIN:VEVENT
UID:69e9dd399ab01
DTSTAMP:20260423T085001Z
SUMMARY:Interzone Laval 2025
DESCRIPTION:<p>Compétition interzone de Laval 2025.</p>
LOCATION:École Georges-Vanier\, 3995 Boul. Lévesque Est\, Laval\, Québec
 \, Canada\, H7E 2R3
DTSTART;TZID=America/Montreal:20250316T080000
DTEND;TZID=America/Montreal:20250316T170000
END:VEVENT
END:VCALENDAR